BEGIN:VCALENDAR
VERSION:2.0
PRODID:-//eventon.com NONSGML v1.0//EN
CALSCALE:GREGORIAN
METHOD:PUBLISH
BEGIN:VEVENT
UID:69e73389c9574
DTSTAMP:20260421T082129Z
DTSTART:20260316T130000Z
DTEND:20260316T160000Z
LOCATION:Netzwerk Freie Kultur Netzwerk Freie Kultur
SUMMARY:LUNCH-KONZERT: ARC OF IRIS
DESCRIPTION:Weltliche und geistliche Kantaten Montag\,  16. März 2026 | 14
 .00 UhrEinLaden Arc of IrisElla Smith\,  SopranEmilia Durka\,  BlockflöteA
 lma Stoye\,  Viola da gambaSamyar Fazelzadeh\,  Theorbe und LauteEnno Gröh
 n\,  Cembalo Als überaus angesehener und aktiver Komponist prägte Gottfri
 ed Heinrich Stölzel in der ersten Hälfte des 18. Jahrhunderts das musikal
 ische Leben an zahlreichen[..]
URL:https://magdeboogie.de/events/lunch-konzert-arc-of-iris/
END:VEVENT
END:VCALENDAR