BEGIN:VCALENDAR
VERSION:2.0
PRODID:-//eventon.com NONSGML v1.0//EN
CALSCALE:GREGORIAN
METHOD:PUBLISH
BEGIN:VEVENT
UID:69e77539da9f8
DTSTAMP:20260421T130145Z
DTSTART:20260320T130000Z
DTEND:20260320T160000Z
LOCATION:Netzwerk Freie Kultur Netzwerk Freie Kultur
SUMMARY:LUNCH-KONZERT: TnT RECORDERS
DESCRIPTION:Flower Power Freitag\,  20. März 2026 | 14.00 UhrEinLaden TnT 
 RecordersTeresa Wrann\,  BlockflöteThomas Pickering\,  Blockflöte und Cem
 balo Die „Blumensprache“ galt im 18. Jahrhundert als anerkanntes Kommun
 ikationsmittel. Einzelne Blüten oder ganze Sträuße konnten – überreic
 ht\,  an den Kleidern getragen oder zur Schau gestellt – Botschaften zwis
 chenmenschlicher Beziehungen übermitteln\,  wobei jeder Blume[..]
URL:https://magdeboogie.de/events/lunch-konzert-tnt-recorders/
END:VEVENT
END:VCALENDAR