BEGIN:VCALENDAR
VERSION:2.0
PRODID:-//eventon.com NONSGML v1.0//EN
CALSCALE:GREGORIAN
METHOD:PUBLISH
BEGIN:VEVENT
UID:69e77117c2b28
DTSTAMP:20260421T124407Z
DTSTART:20260204T180000Z
DTEND:20260204T210000Z
LOCATION:Brandenburger StraÃŸe 10\,  39104 Magdeburg\,  Germany Brandenburger StraÃŸe 10\,  39104 Magdeburg\,  Germany
SUMMARY:PODIUMSGESPRÃ„CH | Behindert sind wir doch alle! Wann ist etwas Kunst?
DESCRIPTION:Im Begleitprogramm zur Ausstellung SELTENLAND â€“ Philipp Wewer
 ka und GÃ¤ste laden wir zu einem offenen PodiumsgesprÃ¤ch unter dem Titel â
 €žBehindert sind wir doch alle! Wann ist etwas Kunst?â€œ ein. Die Ausstellu
 ng prÃ¤sentiert erstmals eine umfangreiche Auswahl aus dem zeichnerischen W
 erk von Philipp Wewerka â€“ eines Autisten\,  der seine innere Welt[..]
URL:https://magdeboogie.de/events/podiumsgespraech-behindert-sind-wir-doch-alle-wann-ist-etwas-kunst/
END:VEVENT
END:VCALENDAR