BEGIN:VCALENDAR
VERSION:2.0
PRODID:-//eventon.com NONSGML v1.0//EN
CALSCALE:GREGORIAN
METHOD:PUBLISH
BEGIN:VEVENT
UID:69e4ce18b0dd0
DTSTAMP:20260419T124408Z
DTSTART:20260204T183000Z
DTEND:20260204T213000Z
LOCATION:... nach Hengstmanns\,  politisch-satirisches KABARETT ... nach Hengstmanns\,  politisch-satirisches KABARETT
SUMMARY:Abriss
DESCRIPTION:Tobias Hengstmann hat schon wieder ein neues Programm? Die Antw
 ort aufdiese Frage lautet: JEIN! Er hat in seinem künstlerischen Schaffen 
 einige Bücher\, noch mehr Lieder und vor allem sehr viele Kabaretttexte ge
 schrieben.Und bis heute einige Kanzler\,  Ministerpräsidenten und Bürgeme
 isterInnen\,  ja sogarSchlagersänger überlebt. Und alles was bisher passi
 ert ist\,  gerade passiert undnoch[..]
URL:https://magdeboogie.de/events/abriss/
END:VEVENT
END:VCALENDAR