BEGIN:VCALENDAR
VERSION:2.0
PRODID:-//eventon.com NONSGML v1.0//EN
CALSCALE:GREGORIAN
METHOD:PUBLISH
BEGIN:VEVENT
UID:69e8a040c17c3
DTSTAMP:20260422T101736Z
DTSTART:20260219T181900Z
DTEND:20260219T211900Z
LOCATION:Das Stübchen &amp; Kulturwerkstatt Das Stübchen & Kulturwerkstatt
SUMMARY:Jam Session – Open Stage
DESCRIPTION:Bei der Stübchen-Session können Musiker\,  ganz gleich\,  wel
 cher Stil\,  egal ob Hobby oder Profi\,  auf der Session-Bühne in der Kult
 urwerkstatt des Stübchens den musikalischen Ton angeben. Um 18 Uhr öffnet
  das Stübchen. Also Freiwillige vor! Lasst beim gemeinsamen Musizieren mit
  anderen Künstlern Neues entstehen\,  Euch inspirieren oder genießt einfa
 ch nur[..]
URL:https://magdeboogie.de/events/jam-session-open-stage/
END:VEVENT
END:VCALENDAR