BEGIN:VCALENDAR
VERSION:2.0
PRODID:-//eventon.com NONSGML v1.0//EN
CALSCALE:GREGORIAN
METHOD:PUBLISH
BEGIN:VEVENT
UID:69e75f7f860b5
DTSTAMP:20260421T112903Z
DTSTART:20260130T173000Z
DTEND:20260130T210000Z
LOCATION:Café Verde im Herrenkrug
SUMMARY:Jam im Cafe Verde mit D.i.n.o
DESCRIPTION:Zusammen mit der Band D.I.N.O laden wir euch herzlich zum gemei
 nsamen musizieren und kreativ sein ein. Egal ob ihr lieber Cover\,  frei na
 ch Schnauze oder improvisiertes Musiktheater spielt. Wir sind bemüht einen
  Raum zu schaffen\,  in dem sich alle eingeladen fühlen sich auszuprobiere
 n und ihre Kreativität zu zeigen. Also\,  ob[..]
URL:https://magdeboogie.de/events/jam-im-cafe-verde-mit-d-i-n-o/
END:VEVENT
END:VCALENDAR