BEGIN:VCALENDAR
VERSION:2.0
PRODID:-//eventon.com NONSGML v1.0//EN
CALSCALE:GREGORIAN
METHOD:PUBLISH
BEGIN:VEVENT
UID:69e748c88c700
DTSTAMP:20260421T095208Z
DTSTART:20260227T180000Z
DTEND:20260227T210000Z
LOCATION:Insel der Jugend Insel der Jugend
SUMMARY:Antifuchs – Das Rudel Rollt 2026
DESCRIPTION:AntifuchsDas Rudel Rollt 202627.02. | Insel der Jugend Magdebur
 g19 Uhr Einlass20 Uhr Konzertbeginn
URL:https://magdeboogie.de/events/antifuchs-das-rudel-rollt-2026/
END:VEVENT
END:VCALENDAR