BEGIN:VCALENDAR
VERSION:2.0
PRODID:-//eventon.com NONSGML v1.0//EN
CALSCALE:GREGORIAN
METHOD:PUBLISH
BEGIN:VEVENT
UID:69eb288597db5
DTSTAMP:20260424T082333Z
DTSTART:20260216T190000Z
DTEND:20260216T220000Z
LOCATION:Brandenburger Straße 10\,  39104 Magdeburg\,  Germany Brandenburger Straße 10\,  39104 Magdeburg\,  Germany
SUMMARY:JAZZ IN DER KAMMER | Simon Popp Trio
DESCRIPTION:Das Drum Trio um den in München lebenden Schlagzeuger und Komp
 onisten Simon Popp schlägt sich mit einem feinen Gespür für Timing und S
 timmung durch polyrhythmische Strukturen. Es kontrastiert erdige und luftig
 e Klänge\,  verwischt die Grenzen zwischen der elektronischen und akustisc
 hen Welt und setzt so ein kraftvolles Statement dafür\,  was zeitgenössis
 che[..]
URL:https://magdeboogie.de/events/jazz-in-der-kammer-simon-popp-trio/
END:VEVENT
END:VCALENDAR