BEGIN:VCALENDAR
VERSION:2.0
PRODID:-//eventon.com NONSGML v1.0//EN
CALSCALE:GREGORIAN
METHOD:PUBLISH
BEGIN:VEVENT
UID:69e734a118f02
DTSTAMP:20260421T082609Z
DTSTART:20260328T180000Z
DTEND:20260328T210000Z
LOCATION:Gaststätte Jahnke Gaststätte Jahnke
SUMMARY:The HIGHWAYMAN live @ Gaststätte Jahnke - Magdeburg/ Fermersleben
DESCRIPTION:Am 28.03.2026 spiele ich wieder in meiner absoluten Lieblingskn
 eipe in Magdeburg. Freut euch auf tanzbare Countrymusik in der Gaststätte 
 Jahnke. EINTRITT ist FREI (der Hut geht am Ende des Abends rum) Bitte reser
 viert euch rechtzeitig in der Gaststätte Plätze!!!
URL:https://magdeboogie.de/events/the-highwayman-live-gaststaette-jahnke-magdeburg-fermersleben/
END:VEVENT
END:VCALENDAR