BEGIN:VCALENDAR
VERSION:2.0
PRODID:-//eventon.com NONSGML v1.0//EN
CALSCALE:GREGORIAN
METHOD:PUBLISH
BEGIN:VEVENT
UID:69e749876d1a8
DTSTAMP:20260421T095519Z
DTSTART:20260227T180000Z
DTEND:20260227T210000Z
LOCATION:Magdeburg Magdeburg
SUMMARY:Konzert mit Mud/O im Volksbad Buckau
DESCRIPTION:So am 27.2. dürfen wir als Support für Mud/O (Pl) eine kleine
  Supportshow im Volksbad Buckau in Magdeburg spielen ��. Einlass 19.00 
 Beginn 20.00 wir freuen uns �
URL:https://magdeboogie.de/events/konzert-mit-mud-o-im-volksbad-buckau/
END:VEVENT
END:VCALENDAR