BEGIN:VCALENDAR
VERSION:2.0
PRODID:-//eventon.com NONSGML v1.0//EN
CALSCALE:GREGORIAN
METHOD:PUBLISH
BEGIN:VEVENT
UID:69e7346b4f71d
DTSTAMP:20260421T082515Z
DTSTART:20260310T180000Z
DTEND:20260310T210000Z
LOCATION:OLi-Kino Magdeburg OLi-Kino Magdeburg
SUMMARY:Tuesgay im März: Eisenstein in Guanajuato
DESCRIPTION:Greenaway / 2015 / M\,  NL / 110 Min / FSK 16 „Eisenstein in 
 Guanajuato“ (2015) von Peter Greenaway zeigt einige Tage im Leben des sow
 jetischen Regisseurs Sergei Eisenstein während seines Aufenthalts in Mexik
 o 1931. Der Film konzentriert sich weniger auf seine Arbeit als Filmemacher
 \,  sondern auf eine persönliche und[..]
URL:https://magdeboogie.de/events/tuesgay-im-maerz-eisenstein-in-guanajuato/
END:VEVENT
END:VCALENDAR