BEGIN:VCALENDAR
VERSION:2.0
PRODID:-//eventon.com NONSGML v1.0//EN
CALSCALE:GREGORIAN
METHOD:PUBLISH
BEGIN:VEVENT
UID:69e61e8bdd4e0
DTSTAMP:20260420T123939Z
DTSTART:20260328T150000Z
DTEND:20260328T180000Z
LOCATION:Moritzplatz 1 39124 Magdeburg-Neustadt\,  Germany Moritzplatz 1\,  39124 Magdeburg-Neustadt\,  Germany
SUMMARY:AUSVERKAUFT: Publicspace "Das Planetarium"… FamilienWISSENSCHAFTSSHOW (16:00 Uhr)
DESCRIPTION:Eine interaktive Reise in den Weltraum im Pop-Up Planetarium mi
 t der Astronomin Dr. Ruth Grützbauch! Das mobile Sternenzelt ist ein vollw
 ertiges digitales Planetarium\,  in dem der aktuelle Nachthimmel von einer 
 echten Astronomin interaktiv vermittelt wird. Wir reisen durch die unvorste
 llbaren Weiten des Alls\,  zoomen an Planeten und deren Monde heran\, [..]
URL:https://magdeboogie.de/events/publicspace-das-planetarium-familienwissenschaftsshow-1600-uhr/
END:VEVENT
END:VCALENDAR