BEGIN:VCALENDAR
VERSION:2.0
PRODID:-//eventon.com NONSGML v1.0//EN
CALSCALE:GREGORIAN
METHOD:PUBLISH
BEGIN:VEVENT
UID:69e88f27c05b7
DTSTAMP:20260422T090439Z
DTSTART:20260307T190000Z
DTEND:20260307T220000Z
LOCATION:Karl-Schmidt-Straße 56\,  39104 Magdeburg\,  Germany Karl-Schmidt-Straße 56\,  39104 Magdeburg\,  Germany
SUMMARY:Konzert: ELFYN
DESCRIPTION:Samstag\,  7. März 2026\,  20:00 Uhr Hinter dem Pseudonym ELFY
 N verbirgt sich die Leipziger Sängerin und Musikerin Theresa Elflein. Der 
 Titel ihres 2024 erschienenen Debütalbums „anam cara” stammt aus dem I
 rischen und kann mit „Seelenfreundin&#8220; übersetzt werden. Zwischen E
 uphorie und Meditation Die Musik von ELFYN bewegt sich im Spannungsfeld zwi
 schen[..]
URL:https://magdeboogie.de/events/konzert-elfyn/
END:VEVENT
END:VCALENDAR