BEGIN:VCALENDAR
VERSION:2.0
PRODID:-//eventon.com NONSGML v1.0//EN
CALSCALE:GREGORIAN
METHOD:PUBLISH
BEGIN:VEVENT
UID:69e8936801bf5
DTSTAMP:20260422T092248Z
DTSTART:20260315T100000Z
DTEND:20260315T130000Z
LOCATION:Karl-Schmidt-Straße 56\,  39104 Magdeburg\,  Germany Karl-Schmidt-Straße 56\,  39104 Magdeburg\,  Germany
SUMMARY:Empowerment-Schreibworkshop für Frauen
DESCRIPTION:Empowerment-Schreibworkshop für Frauen* Entdecke deine innere 
 Stärke beim kreativen Schreiben Sonntag\,  15. März 2026\,  11:00–15:00
  Uhr Entdecke beim kreativen Schreiben deine eigene innere Stärke und nimm
  neue Energie mit in deinen Alltag. Viele Frauen* ahnen gar nicht\,  wie kr
 aftvoll sie sind – und werden genau deshalb oft unterschätzt. In diesem[
 ..]
URL:https://magdeboogie.de/events/empowerment-schreibworkshop-fuer-frauen/
END:VEVENT
END:VCALENDAR