BEGIN:VCALENDAR
VERSION:2.0
PRODID:-//eventon.com NONSGML v1.0//EN
CALSCALE:GREGORIAN
METHOD:PUBLISH
BEGIN:VEVENT
UID:69e4cdc643c70
DTSTAMP:20260419T124246Z
DTSTART:20260315T130000Z
DTEND:20260315T150000Z
LOCATION:Schellingstraße 3-4 / einewelt haus\,  39104 Magdeburg\,  Germany Schellingstraße 3-4 / einewelt haus\,  39104 Magdeburg\,  Germany
SUMMARY:Magdeburg putzt sich - Müllsammelaktion
DESCRIPTION:Greenpeace Magdeburg plant eine Müllsammelaktion und lädt all
 e ein\,  gemeinsam ein Zeichen für Umweltschutz und Stadtbewusstsein zu se
 tzen. Gesammelt wird dort\,  wo achtlos Weggeworfenes unsere Parks\,  Grün
 flächen und Uferbereiche belastet. Jede helfende Hand zählt! Die Aktion r
 ichtet sich an alle\,  die nicht länger wegschauen\,  sondern aktiv etwas 
 für ein sauberes[..]
URL:https://magdeboogie.de/events/magdeburg-putzt-sich-muellsammelaktion/
END:VEVENT
END:VCALENDAR