BEGIN:VCALENDAR
VERSION:2.0
PRODID:-//eventon.com NONSGML v1.0//EN
CALSCALE:GREGORIAN
METHOD:PUBLISH
BEGIN:VEVENT
UID:69e75ecce8d33
DTSTAMP:20260421T112604Z
DTSTART:20260306T160000Z
DTEND:20260307T113000Z
LOCATION:Bürgelstraße 1\,  39104 Magdeburg\,  Deutschland Bürgelstraße 1\,  39104 Magdeburg\,  Deutschland
SUMMARY:Bubble-Crasher: Raus aus der Filterblase – Rein in echte Gespräche
DESCRIPTION:Wann hast du zuletzt mit jemandem gesprochen\,  der völlig and
 ers denkt als du? WorkshopIn Sachsen-Anhalt stehen dieses Jahr Landtagswahl
 en an. Gerade jetzt ist entscheidend\,  wie wir miteinander reden: überein
 ander oder miteinander. Der Workshop lädt dazu ein\,  die eigenen Denk- un
 d Alltagsblasen zu erkennen\,  zu reflektieren und aufzubrechen und vermitt
 elt hilfreiche[..]
URL:https://magdeboogie.de/events/bubble-crasher-raus-aus-der-filterblase-rein-in-echte-gespraeche/
END:VEVENT
END:VCALENDAR