BEGIN:VCALENDAR
VERSION:2.0
PRODID:-//eventon.com NONSGML v1.0//EN
CALSCALE:GREGORIAN
METHOD:PUBLISH
BEGIN:VEVENT
UID:69e61dc7493d6
DTSTAMP:20260420T123623Z
DTSTART:20260308T120000Z
DTEND:20260308T150000Z
LOCATION:Brandenburger Straße 10\,  39104 Magdeburg\,  Germany Brandenburger Straße 10\,  39104 Magdeburg\,  Germany
SUMMARY:TAG DER ARCHIVE 2026
DESCRIPTION:13. Tag der ArchiveAlte Heimat – neue Heimat Was bedeutet Hei
 mat – und wie verändert sie sich im Lauf eines Lebens? Anlässlich des 1
 3. Tags der Archive lädt das Forum Gestaltung gemeinsam mit dem Wewerka Ar
 chiv zu einer filmischen und diskursiven Annäherung an diese Frage ein. Im
  Mittelpunkt steht die[..]
URL:https://magdeboogie.de/events/tag-der-archive-2026/
END:VEVENT
END:VCALENDAR