BEGIN:VCALENDAR
VERSION:2.0
PRODID:-//eventon.com NONSGML v1.0//EN
CALSCALE:GREGORIAN
METHOD:PUBLISH
BEGIN:VEVENT
UID:69e733ea39eeb
DTSTAMP:20260421T082306Z
DTSTART:20260321T120000Z
DTEND:20260321T210000Z
LOCATION:Gerhart-Hauptmann-Straße 32\,  Magdeburg Gerhart-Hauptmann-Straße 32\,  Magdeburg
SUMMARY:Kiezgeflüster im Linharts mit The Cash Daddies Two
DESCRIPTION:Endlich wieder was los bei uns im Kiez!❤️😁 Dieses Jahr m
 achen wir zum Kiezgeflüster in Stadtfeld Ost etwas mehr und haben uns &#82
 22;The Cash Daddies Two&#8220; eingeladen. Klassiker von Johnny Cash bis El
 vis\,  handgemacht bei uns im Laden.Playtime 19.30 Uhr und 20.30 Uhr👍 Wi
 r starten schon 13 Uhr und machen[..]
URL:https://magdeboogie.de/events/kiezgefluester-im-linharts-mit-the-cash-daddies-two/
END:VEVENT
END:VCALENDAR