BEGIN:VCALENDAR
VERSION:2.0
PRODID:-//eventon.com NONSGML v1.0//EN
CALSCALE:GREGORIAN
METHOD:PUBLISH
BEGIN:VEVENT
UID:69e8a10ac04aa
DTSTAMP:20260422T102058Z
DTSTART:20260307T190000Z
DTEND:20260307T220000Z
LOCATION:OLi-Kino Magdeburg OLi-Kino Magdeburg
SUMMARY:Frauentagsfete
DESCRIPTION:Tanz und Spaß im Kuschelsaal.Das OLi lädt zur Frauentagsparty
  der besonderen Art: Begrüßungssekt\,  Filmspaß\,  Comedy und Tanz &#821
 1; Lasst euch überraschen. Eintritt:23€ (in den Reihen) /25€ (Tischpla
 tz)
URL:https://magdeboogie.de/events/frauentagsfete-2/
END:VEVENT
END:VCALENDAR