BEGIN:VCALENDAR
VERSION:2.0
PRODID:-//eventon.com NONSGML v1.0//EN
CALSCALE:GREGORIAN
METHOD:PUBLISH
BEGIN:VEVENT
UID:69e733710377f
DTSTAMP:20260421T082105Z
DTSTART:20260402T190000Z
DTEND:20260403T010000Z
LOCATION:Insel der Jugend Insel der Jugend
SUMMARY:Reise zum Mittelpunkt der 80er
DESCRIPTION:It’s 80’s time!Packt die Dauerwelle aus\,  Klaus Lörrach b
 ringt uns am 02.04. zurück in die good old Times mit den neuesten Hits aus
  den 80ern! Die Reise zum Mittelpunkt der 80er02.04. | 21 Uhr
URL:https://magdeboogie.de/events/reise-zum-mittelpunkt-der-80er-8/
END:VEVENT
END:VCALENDAR