BEGIN:VCALENDAR
VERSION:2.0
PRODID:-//eventon.com NONSGML v1.0//EN
CALSCALE:GREGORIAN
METHOD:PUBLISH
BEGIN:VEVENT
UID:69e88ad9f3954
DTSTAMP:20260422T084617Z
DTSTART:20260508T170000Z
DTEND:20260508T200000Z
LOCATION:Breiter Weg 252\,  39104 Magdeburg\,  Germany Breiter Weg 252\,  39104 Magdeburg\,  Germany
SUMMARY:Marc Roca & die Aliens + Red Hot Mother Funkers
DESCRIPTION:Marc Roca &#038; die AliensEine unverkennbare Stimme\,  mitreiÃ
 Ÿende Songs und bezaubernde Balladen sind die Markenzeichen des Singer-Song
 writers Marc Roca. Der Wahl-Magdeburger hat unzÃ¤hlige Konzerte auf kleinen
  und groÃŸen BÃ¼hnen gegeben â€“ Solo mit Gitarre und mit wechselnden Begle
 itmusikern. Hits wie &#8222;Day byDay&#8220; und &#8222;Nightfall&#8220; au
 s seinem DebÃ¼talbum â€žOdysseyâ€œ (2018) wurden[..]
URL:https://magdeboogie.de/events/marc-roca-die-aliens-red-hot-mother-funkers/
END:VEVENT
END:VCALENDAR