BEGIN:VCALENDAR
VERSION:2.0
PRODID:-//eventon.com NONSGML v1.0//EN
CALSCALE:GREGORIAN
METHOD:PUBLISH
BEGIN:VEVENT
UID:69ea0577d9a05
DTSTAMP:20260423T114143Z
DTSTART:20260517T130000Z
DTEND:20260517T163000Z
LOCATION:Schellingstraße 3-4\,  39104 Magdeburg\,  Germany Schellingstraße 3-4\,  39104 Magdeburg\,  Germany
SUMMARY:Frühlingskonzert des Gesangsstudios
DESCRIPTION:Das Gesangsstudio der AGSA-Mitgliedsorganisation SKV Meridian e
 .V. lädt herzlich zum Frühlingskonzert ins einewelt haus Magdeburg ein. A
 m Sonntag\,  17. Mai 2026\,  erwartet die Besucher*innen von 15:00 bis 18:3
 0 Uhr ein musikalischer Nachmittag\,  der ganz im Zeichen des Frühlings\, 
  der Freude und der kulturellen Vielfalt steht. Mit einem abwechslungsreich
 en Programm präsentiert[..]
URL:https://magdeboogie.de/events/fruehlingskonzert-des-gesangsstudios/
END:VEVENT
END:VCALENDAR